BEGIN:VCALENDAR
VERSION:2.0
PRODID:-//Escuela Superior de Biomagnetismo Médico - ECPv6.15.20//NONSGML v1.0//EN
CALSCALE:GREGORIAN
METHOD:PUBLISH
X-ORIGINAL-URL:http://escuelaisaacgoiz.com
X-WR-CALDESC:Eventos para Escuela Superior de Biomagnetismo Médico
REFRESH-INTERVAL;VALUE=DURATION:PT1H
X-Robots-Tag:noindex
X-PUBLISHED-TTL:PT1H
BEGIN:VTIMEZONE
TZID:UTC
BEGIN:STANDARD
TZOFFSETFROM:+0000
TZOFFSETTO:+0000
TZNAME:UTC
DTSTART:20250101T000000
END:STANDARD
END:VTIMEZONE
BEGIN:VEVENT
DTSTART;TZID=UTC:20260427T090000
DTEND;TZID=UTC:20260501T180000
DTSTAMP:20260423T234833
CREATED:20260121T190718Z
LAST-MODIFIED:20260212T194729Z
UID:10500-1777280400-1777658400@escuelaisaacgoiz.com
SUMMARY:Curso Par Biomagnético Primer Nivel Isaac Goiz Martínez Panamá Abril 2026
DESCRIPTION:📌 Curso de Par Biomagnético\n¿Qué es el Par Biomagnético?\nEs una técnica terapéutica desarrollada por el Dr. Isaac Goiz Durán. Utiliza imanes en puntos específicos del cuerpo para ayudar a recuperar el equilibrio y bienestar general. Es un método integrativo y no invasivo. \n📘 Detalles del Curso (Primer Nivel)\n📅 Fecha: 27 Abril al 1 de Mayo de 2026.\n👨‍🏫 Instructor: Dr. h.c. Isaac Goiz Martínez.\n🌐 Modalidad: Presencial.\n⏳ Duración: 5 días. \n🕘 Horario:\nLunes a jueves: 9:00 am a 6:00 pm.\nRecesos: 11:00 a 11:30 am\, 1:30 a 3:00 pm y 4:30 a 5:00 pm.\nViernes: hasta las 2:00 pm. \n📍(Modalidad Presencial)\nPanamá \n🎁 Beneficios Incluidos\nMaterial digital y videos informativos.\nUn libro de obsequio.\nConstancia de asistencia. \n📖 Temario\nEl curso cubre los fundamentos y la aplicación práctica de la técnica\, incluyendo:\nIntroducción y fundamentos científicos.\nMetodología del rastreo.\nEstudio de Pares Biomagnéticos para: Virus\, Bacterias\, Hongos\, Parásitos\, etc.\nEnfoque en temas como SIDA y Cáncer.\nPrácticas clínicas. \n📜 Requisitos de Inscripción\nLlenar formulario de registro.\nComprobante de estudios (del último grado escolar cursado).\nIdentificación oficial (INE\, pasaporte\, etc.).\nFotografía digital para la constancia de participación. \n💰 Costo:\nPrecio normal: $700 USD. (dólares)\nPrecio especial: $500 USD (dólares) al realizar la inscripción antes del 15 de abril de 2026.
URL:http://escuelaisaacgoiz.com/event/curso-par-biomagnetico-primer-nivel-isaac-goiz-martinez-panama-abril-2026/
LOCATION:Panamá\, Panama
ATTACH;FMTTYPE=image/jpeg:http://escuelaisaacgoiz.com/wp-content/uploads/2026/01/Banner-MG-4.jpg
ORGANIZER;CN="Servicios Acad%C3%A9micos":MAILTO:serviciosacademicos@escuelaisaacgoiz.com
END:VEVENT
END:VCALENDAR